BEGIN:VCALENDAR
VERSION:2.0
PRODID:-//Azaleas on the Corner - ECPv6.15.20//NONSGML v1.0//EN
CALSCALE:GREGORIAN
METHOD:PUBLISH
X-WR-CALNAME:Azaleas on the Corner
X-ORIGINAL-URL:https://azaleasonthecorner.com
X-WR-CALDESC:Events for Azaleas on the Corner
REFRESH-INTERVAL;VALUE=DURATION:PT1H
X-Robots-Tag:noindex
X-PUBLISHED-TTL:PT1H
BEGIN:VTIMEZONE
TZID:America/New_York
BEGIN:DAYLIGHT
TZOFFSETFROM:-0500
TZOFFSETTO:-0400
TZNAME:EDT
DTSTART:20230312T070000
END:DAYLIGHT
BEGIN:STANDARD
TZOFFSETFROM:-0400
TZOFFSETTO:-0500
TZNAME:EST
DTSTART:20231105T060000
END:STANDARD
BEGIN:DAYLIGHT
TZOFFSETFROM:-0500
TZOFFSETTO:-0400
TZNAME:EDT
DTSTART:20240310T070000
END:DAYLIGHT
BEGIN:STANDARD
TZOFFSETFROM:-0400
TZOFFSETTO:-0500
TZNAME:EST
DTSTART:20241103T060000
END:STANDARD
BEGIN:DAYLIGHT
TZOFFSETFROM:-0500
TZOFFSETTO:-0400
TZNAME:EDT
DTSTART:20250309T070000
END:DAYLIGHT
BEGIN:STANDARD
TZOFFSETFROM:-0400
TZOFFSETTO:-0500
TZNAME:EST
DTSTART:20251102T060000
END:STANDARD
END:VTIMEZONE
BEGIN:VEVENT
DTSTART;TZID=America/New_York:20241116T160000
DTEND;TZID=America/New_York:20241116T173000
DTSTAMP:20260423T084649
CREATED:20241031T182744Z
LAST-MODIFIED:20241031T185431Z
UID:460-1731772800-1731778200@azaleasonthecorner.com
SUMMARY:Sip & Stem Floral Workshop
DESCRIPTION:Join us for a delightful and creative experience at our Fall Floral Workshop on November 16th\, 2024\, at Azaleas\, located at 1544 Broadway\, Fort Myers\, FL 33901. From 4:00 pm to 5:30 pm. \nThis hands-on class is perfect for floral enthusiasts of all skill levels\, whether you’re a beginner or looking to refine your skills. \nIn this workshop\, all supplies and fresh flowers will be provided\, allowing you to focus on unleashing your creativity. Under the guidance of our expert instructor- Anita Singh\, you will learn techniques to arrange seasonal blooms and create a stunning floral masterpiece that you can proudly take home. \nAs a special treat\, each participant will receive a complimentary glass of wine or a drink of their choice\, included in the ticket price. \nDon’t miss this opportunity to embrace the beauty of fall while enjoying a fun and engaging atmosphere with fellow flower lovers. Reserve your spot today and get ready to create something beautiful!  $75 per person.
URL:https://azaleasonthecorner.com/event/sip-stem-floral-workshop/
LOCATION:FL
CATEGORIES:Floral Workshop
ATTACH;FMTTYPE=image/jpeg:https://azaleasonthecorner.com/wp-content/uploads/2024/10/Floral-Workshop-11-16-24.jpg
ORGANIZER;CN="Azaleas on the Corner":MAILTO:contact@azaleasonthecorner.com
END:VEVENT
END:VCALENDAR